BEGIN:VCALENDAR
VERSION:2.0
PRODID:-//ChamberMaster//Event Calendar 2.0//EN
METHOD:PUBLISH
X-PUBLISHED-TTL:P3D
REFRESH-INTERVAL:P3D
CALSCALE:GREGORIAN
BEGIN:VEVENT
DTSTART:20321103T230000Z
DTEND:20321104T001500Z
X-MICROSOFT-CDO-ALLDAYEVENT:FALSE
SUMMARY:Workforce Development Committee
DESCRIPTION:
X-ALT-DESC;FMTTYPE=text/html:
LOCATION:
UID:e.9280.5191
SEQUENCE:3
DTSTAMP:20260420T014116Z
URL:https://members.masterbuilderspierce.com/events/details/workforce-development-committee-11-03-2032-5191
END:VEVENT

END:VCALENDAR
