BEGIN:VCALENDAR
VERSION:2.0
PRODID:-//ChamberMaster//Event Calendar 2.0//EN
METHOD:PUBLISH
X-PUBLISHED-TTL:P3D
REFRESH-INTERVAL:P3D
CALSCALE:GREGORIAN
BEGIN:VEVENT
DTSTART:20171031T003000Z
DTEND:20171031T013000Z
X-MICROSOFT-CDO-ALLDAYEVENT:FALSE
SUMMARY:Tour of Remodeled Homes Committee Meeting
DESCRIPTION:Final wrap-up meeting for the 2017 Tour of Remodeled Homes
X-ALT-DESC;FMTTYPE=text/html:Final wrap-up meeting for the 2017 Tour of Remodeled Homes&nbsp\;
LOCATION:MBA Pierce office 3711 Center St.\, Tacoma WA 98409
UID:e.9280.2055
SEQUENCE:3
DTSTAMP:20260422T022439Z
URL:https://members.masterbuilderspierce.com/events/details/tour-of-remodeled-homes-committee-meeting-2055
END:VEVENT

END:VCALENDAR
