BEGIN:VCALENDAR
VERSION:2.0
PRODID:-//ChamberMaster//Event Calendar 2.0//EN
METHOD:PUBLISH
X-PUBLISHED-TTL:P3D
REFRESH-INTERVAL:P3D
CALSCALE:GREGORIAN
BEGIN:VEVENT
DTSTART:20170815T233000Z
DTEND:20170816T010000Z
X-MICROSOFT-CDO-ALLDAYEVENT:FALSE
SUMMARY:Tour of Remodeled Homes Committee Meeting
DESCRIPTION:Emergency meeting for the 2017 Tour of Remodeled Homes
X-ALT-DESC;FMTTYPE=text/html:Emergency meeting for the 2017 Tour of Remodeled Homes &nbsp\; &nbsp\;
LOCATION:MBA Pierce office 3711 Center St.\, Tacoma WA 98409
UID:e.9280.2033
SEQUENCE:3
DTSTAMP:20260422T063233Z
URL:https://members.masterbuilderspierce.com/events/details/tour-of-remodeled-homes-committee-meeting-2033
END:VEVENT

END:VCALENDAR
