BEGIN:VCALENDAR
VERSION:2.0
PRODID:-//ChamberMaster//Event Calendar 2.0//EN
METHOD:PUBLISH
X-PUBLISHED-TTL:P3D
REFRESH-INTERVAL:P3D
CALSCALE:GREGORIAN
BEGIN:VEVENT
DTSTART:20170808T000000Z
DTEND:20170808T020000Z
X-MICROSOFT-CDO-ALLDAYEVENT:FALSE
SUMMARY:Tour of Remodeled Homes Committee Meeting
DESCRIPTION:The Committee for the 2017 Tour of Remodeled Homes will be meeting for the to discuss the action plan for this year's big event.
X-ALT-DESC;FMTTYPE=text/html:The Committee for the 2017 Tour of Remodeled Homes will be meeting for the to discuss the action plan for this year&#39\;s big event.&nbsp\;&nbsp\;&nbsp\;&nbsp\;&nbsp\;&nbsp\;&nbsp\;&nbsp\;&nbsp\;
LOCATION:MBA Pierce office 3711 Center St.\, Tacoma WA 98409
UID:e.9280.2028
SEQUENCE:3
DTSTAMP:20260422T053531Z
URL:https://members.masterbuilderspierce.com/events/details/tour-of-remodeled-homes-committee-meeting-2028
END:VEVENT

END:VCALENDAR
