BEGIN:VCALENDAR
VERSION:2.0
PRODID:-//ChamberMaster//Event Calendar 2.0//EN
METHOD:PUBLISH
X-PUBLISHED-TTL:P3D
REFRESH-INTERVAL:P3D
CALSCALE:GREGORIAN
BEGIN:VEVENT
DTSTART:20170802T000000Z
DTEND:20170802T013000Z
X-MICROSOFT-CDO-ALLDAYEVENT:FALSE
SUMMARY:Tour of Remodeled Homes Committee Meeting
DESCRIPTION:It's going to be a great year to celebrate the 20th Annual Tour of Remodeled Homes! All participants in this year's tour are highly encouraged to participate in the committee meetings\, where all the magic happens.
X-ALT-DESC;FMTTYPE=text/html:It&#39\;s going to be a great year to celebrate the 20th&nbsp\;Annual Tour of Remodeled Homes! All participants in this year&#39\;s tour are highly encouraged to participate in the committee meetings\, where all the magic happens.&nbsp\;&nbsp\;&nbsp\;&nbsp\;&nbsp\;
LOCATION:MBA Pierce Headquarters 3711 Center St. Tacoma\, WA 98409
UID:e.9280.2024
SEQUENCE:3
DTSTAMP:20260422T053531Z
URL:https://members.masterbuilderspierce.com/events/details/tour-of-remodeled-homes-committee-meeting-2024
END:VEVENT

END:VCALENDAR
