BEGIN:VCALENDAR
VERSION:2.0
PRODID:-//ChamberMaster//Event Calendar 2.0//EN
METHOD:PUBLISH
X-PUBLISHED-TTL:P3D
REFRESH-INTERVAL:P3D
CALSCALE:GREGORIAN
BEGIN:VEVENT
DTSTART;VALUE=DATE:20161001
DTEND;VALUE=DATE:20161004
TRANSP:TRANSPARENT
X-MICROSOFT-CDO-ALLDAYEVENT:TRUE
SUMMARY:Tour of Remodeled Homes - click register now to buy tickets
DESCRIPTION:2016 Tour of Remodeled Homes\n\n\n\nThis greatly anticipated event is presented by the Remodelors Council of the Master Builders Association of Pierce County. A part of our community since 1945\, MBA Pierce promotes the interests of the home building industry. This year's TORH showcases 9 homes for your dream building enjoyment and to inspire improving function within existing spaces. Each remodeler is a member of the Remodelors Council\, Master Builders Association of Pierce County. Hopefully knowing members are registered and bonded with the state of Washington as well as taking a personal tour of their work helps you in your decision making when choosing to hire a remodeler.\n\n\n\nHomes on the Tour of Remodeled Homes will host respective remodeler's\, suppliers and designers. Ask questions and learn for your next remodel or home improvement project.\n\n\n\nThe Remodelors Council thanks you for participating. Your ticket purchase supports Mary Bridge Helping Hands Fund and Tree House. Again\, thank you .
X-ALT-DESC;FMTTYPE=text/html:2016 Tour of Remodeled Homes<br />\n<br />\nThis greatly anticipated event is presented by the Remodelors&nbsp\;Council of the Master Builders Association of Pierce County. A part of our community since 1945\, MBA Pierce promotes the interests of the home building industry. This year&#39\;s TORH showcases 9 homes for your dream building enjoyment and to inspire improving function within existing spaces. Each remodeler is a member of the Remodelors Council\, Master Builders Association of Pierce County. Hopefully knowing members are registered and bonded with the state of Washington as well as taking a personal tour of their work helps you in your decision making when choosing to hire a remodeler.<br />\n<br />\nHomes on the Tour of Remodeled Homes will host respective remodeler&#39\;s\, suppliers and designers. Ask questions and learn for your next remodel or home improvement project.<br />\n<br />\nThe Remodelors Council thanks you for participating. Your ticket purchase supports Mary Bridge Helping Hands Fund and Tree House. Again\, thank you .
LOCATION:Various locations throughout Pierce County
UID:e.9280.1383
SEQUENCE:3
DTSTAMP:20260422T203346Z
URL:https://members.masterbuilderspierce.com/events/details/tour-of-remodeled-homes-click-register-now-to-buy-tickets-1383
END:VEVENT

END:VCALENDAR
