BEGIN:VCALENDAR
VERSION:2.0
PRODID:-//ChamberMaster//Event Calendar 2.0//EN
METHOD:PUBLISH
X-PUBLISHED-TTL:P3D
REFRESH-INTERVAL:P3D
CALSCALE:GREGORIAN
BEGIN:VEVENT
DTSTART;VALUE=DATE:20170930
DTEND;VALUE=DATE:20171002
TRANSP:TRANSPARENT
X-MICROSOFT-CDO-ALLDAYEVENT:TRUE
SUMMARY:Tour of Remodeled Homes
DESCRIPTION:Join us for the biggest public event of the year! The Tour of Remodeled Homes is back for it's 20th anniversary and better than ever. This year's homes feature completely remodeled kitchens\, masterbaths\, entertainment rooms\, and so much more! \n\n\n\nWhether you're looking to remodel\, buy\, or just need some inspiration\, the 20th Annual Tour of Remodeled Homes will have something for you.
X-ALT-DESC;FMTTYPE=text/html:Join us for the biggest public event of the year! The Tour of Remodeled Homes is back for it&#39\;s 20th&nbsp\;anniversary and better than ever. This year&#39\;s homes feature completely remodeled kitchens\, masterbaths\, entertainment rooms\, and so much more!&nbsp\;<br />\n<br />\nWhether you&#39\;re looking to remodel\, buy\, or just need some inspiration\, the 20th&nbsp\;Annual Tour of Remodeled Homes will have something for you.&nbsp\;
LOCATION:Various locations throughout Pierce County
UID:e.9280.2025
SEQUENCE:3
DTSTAMP:20260422T022311Z
URL:https://members.masterbuilderspierce.com/events/details/tour-of-remodeled-homes-2025
END:VEVENT

END:VCALENDAR
