BEGIN:VCALENDAR
VERSION:2.0
PRODID:-//ChamberMaster//Event Calendar 2.0//EN
METHOD:PUBLISH
X-PUBLISHED-TTL:P3D
REFRESH-INTERVAL:P3D
CALSCALE:GREGORIAN
BEGIN:VEVENT
DTSTART:20130928T190000Z
DTEND:20130929T190000Z
X-MICROSOFT-CDO-ALLDAYEVENT:FALSE
SUMMARY:Tour of Remodeled Homes
DESCRIPTION:
X-ALT-DESC;FMTTYPE=text/html:
LOCATION:
UID:e.9280.44
SEQUENCE:3
DTSTAMP:20260425T183934Z
URL:https://members.masterbuilderspierce.com/events/details/tour-of-remodeled-homes-09-28-2013-44
END:VEVENT

END:VCALENDAR
