BEGIN:VCALENDAR
VERSION:2.0
PRODID:-//ChamberMaster//Event Calendar 2.0//EN
METHOD:PUBLISH
X-PUBLISHED-TTL:P3D
REFRESH-INTERVAL:P3D
CALSCALE:GREGORIAN
BEGIN:VEVENT
DTSTART:20140927T190000Z
DTEND:20140928T190000Z
X-MICROSOFT-CDO-ALLDAYEVENT:FALSE
SUMMARY:Tour of Remodeled Homes
DESCRIPTION:
X-ALT-DESC;FMTTYPE=text/html:
LOCATION:
UID:e.9280.45
SEQUENCE:3
DTSTAMP:20260424T122202Z
URL:https://members.masterbuilderspierce.com/events/details/tour-of-remodeled-homes-09-27-2014-45
END:VEVENT

END:VCALENDAR
