BEGIN:VCALENDAR
VERSION:2.0
PRODID:-//ChamberMaster//Event Calendar 2.0//EN
METHOD:PUBLISH
X-PUBLISHED-TTL:P3D
REFRESH-INTERVAL:P3D
CALSCALE:GREGORIAN
BEGIN:VEVENT
DTSTART:20170925T233000Z
DTEND:20170926T000000Z
X-MICROSOFT-CDO-ALLDAYEVENT:FALSE
SUMMARY:TORH Committee Meeting
DESCRIPTION:The  2017 Tour of Remodeled Homes Committee will have a quick meeting to go over any last minute items and pick up bins for event.
X-ALT-DESC;FMTTYPE=text/html:The &nbsp\;2017 Tour of Remodeled Homes Committee will have a quick meeting to go over any last minute items and pick up bins for event.&nbsp\;
LOCATION:MBA Pierce office 3711 Center St.\, Tacoma WA 98409
UID:e.9280.2047
SEQUENCE:3
DTSTAMP:20260422T035709Z
URL:https://members.masterbuilderspierce.com/events/details/torh-committee-meeting-2047
END:VEVENT

END:VCALENDAR
