BEGIN:VCALENDAR
VERSION:2.0
PRODID:-//ChamberMaster//Event Calendar 2.0//EN
METHOD:PUBLISH
X-PUBLISHED-TTL:P3D
REFRESH-INTERVAL:P3D
CALSCALE:GREGORIAN
BEGIN:VEVENT
DTSTART:20170825T000000Z
DTEND:20170825T010000Z
X-MICROSOFT-CDO-ALLDAYEVENT:FALSE
SUMMARY:TORH Committee Meeting
DESCRIPTION:The  2017 Tour of Remodeled Homes Committee will be meeting to continue planning and execution of this year's event.
X-ALT-DESC;FMTTYPE=text/html:The &nbsp\;2017 Tour of Remodeled Homes Committee will be meeting to continue planning and execution of this year&#39\;s event.&nbsp\;
LOCATION:MBA Pierce office 3711 Center St.\, Tacoma WA 98409
UID:e.9280.2030
SEQUENCE:3
DTSTAMP:20260422T052832Z
URL:https://members.masterbuilderspierce.com/events/details/torh-committee-meeting-2030
END:VEVENT

END:VCALENDAR
