BEGIN:VCALENDAR
VERSION:2.0
PRODID:-//ChamberMaster//Event Calendar 2.0//EN
METHOD:PUBLISH
X-PUBLISHED-TTL:P3D
REFRESH-INTERVAL:P3D
CALSCALE:GREGORIAN
BEGIN:VEVENT
DTSTART:20180228T013000Z
DTEND:20180228T033000Z
X-MICROSOFT-CDO-ALLDAYEVENT:FALSE
SUMMARY:Remodelors Council and Builders Group Meet\, Greet and BBQ
DESCRIPTION:To insure each event is a success and adds value for our members\, the TableTop Trade Show has been put on hold for the time being. For questions about refunds or invoices\, contact Lisa Simmons. \n\n\n\nJoin the Remodelors Council and the Builders Group for an informal Meet\, Greet and BBQ at Famous Daves - Tacoma!\n\n\n\nThe councils will be discussing upcoming events such as the Remodeling Excellence Awards\, Tour of Remodeled Homes\, and the needs of builders.
X-ALT-DESC;FMTTYPE=text/html:<em><strong>To insure each event is a success and adds value for our members\, the TableTop&nbsp\;Trade Show has been put on hold for the time being. For questions about refunds or invoices\, contact Lisa Simmons.&nbsp\;</strong></em><br />\n<br />\nJoin the Remodelors&nbsp\;Council and the Builders Group for an informal Meet\, Greet and BBQ at Famous Daves - Tacoma!<br />\n<br />\nThe councils will be discussing upcoming events such as the Remodeling Excellence Awards\, Tour of Remodeled Homes\, and the needs of builders.<br />\n<br />\n<br />\n<br />\n&nbsp\;
LOCATION:Famous Daves 1901 S 72nd St C Tacoma\, WA 98408
UID:e.9280.1107
SEQUENCE:3
DTSTAMP:20260421T195103Z
URL:https://members.masterbuilderspierce.com/events/details/tabletop-trade-show-1107
END:VEVENT

END:VCALENDAR
