BEGIN:VCALENDAR
VERSION:2.0
PRODID:-//ChamberMaster//Event Calendar 2.0//EN
METHOD:PUBLISH
X-PUBLISHED-TTL:P3D
REFRESH-INTERVAL:P3D
CALSCALE:GREGORIAN
BEGIN:VEVENT
DTSTART:20190913T020000Z
DTEND:20190913T060000Z
X-MICROSOFT-CDO-ALLDAYEVENT:FALSE
SUMMARY:SPIKE Party at Chateau St. Michelle Winery
DESCRIPTION:Experience a night under the stars at one of Washington's most premier wineries. We will have the opportunity to be serenaded by jazz singer Diana Krall. If you are a SPIKE\, please RSVP for this event by emailing Amy Franco at afranco@mbapierce.com or Jeremiah Lafranca at jlafranca@mbapierce.com.
X-ALT-DESC;FMTTYPE=text/html:Experience a night under the stars at one of Washington&#39\;s most premier wineries. We will have the opportunity to be serenaded by jazz singer Diana Krall.&nbsp\;If you are a SPIKE\, please&nbsp\;RSVP for this event by&nbsp\;emailing&nbsp\;Amy Franco at <a href="mailto:afranco@mbapierce.com">afranco@mbapierce.com</a> or Jeremiah Lafranca at <a href="mailto:jlafranca@mbapierce.com">jlafranca@mbapierce.com</a>.
LOCATION:CHATEAU STE MICHELLE WINERY 14111 NE 145th Street Woodinville\, WA 98072
UID:e.9280.3974
SEQUENCE:3
DTSTAMP:20260421T101416Z
URL:https://members.masterbuilderspierce.com/events/details/spike-party-at-chateau-st-michelle-winery-3974
END:VEVENT

END:VCALENDAR
