BEGIN:VCALENDAR
VERSION:2.0
PRODID:-//ChamberMaster//Event Calendar 2.0//EN
METHOD:PUBLISH
X-PUBLISHED-TTL:P3D
REFRESH-INTERVAL:P3D
CALSCALE:GREGORIAN
BEGIN:VEVENT
DTSTART:20170622T150000Z
DTEND:20170622T200000Z
X-MICROSOFT-CDO-ALLDAYEVENT:FALSE
SUMMARY:Silica\, Asbestos and Lead Awareness in Residential Construction
DESCRIPTION:Requirements for Silica\, Asbestos and Lead Awareness in Residential Construction\n\nWashington State is required to update its Silica rule to meet OSHAs new standard for worker exposure in construction\, get a heads up on the new rule! This class covers health hazards in construction and required awareness training for health hazards in construction. Asbestos Awareness (2 hours) is required for employers who work in buildings where their employees might contact asbestos per WAC 296-62-07722. Particularly in per-1978 buildings\, but in others also\, workers may come in to contact with lead based paint or lead in a form that may cause exposure and are employers are required to provide training to those workers on WAC 296-155-176. This class covers containment\, work practices\, PPE and decontamination for health hazards. \n\n\n\nInstructor\, Kris Alberti\, CAPS\, CGP
X-ALT-DESC;FMTTYPE=text/html:<h4 id="Content1_lblClassTitle" style="margin-top: 0.5em\; margin-bottom: 0.5em\; font-size: large\; color: rgb(71\, 73\, 75)\; font-family: Arial\; background-color: rgb(255\, 255\, 255)\;">Requirements for Silica\, Asbestos and Lead Awareness in Residential Construction</h4>\n\n<div id="Content1_lblClassDescription" style="color: rgb(71\, 73\, 75)\; font-family: Arial\; font-size: 12.1px\; background-color: rgb(255\, 255\, 255)\;">Washington State is required to update its Silica rule to meet OSHAs new standard for worker exposure in construction\, get a heads up on the new rule! This class covers health hazards in construction and required awareness training for health hazards in construction. Asbestos Awareness (2 hours) is required for employers who work in buildings where their employees might contact asbestos per WAC 296-62-07722. Particularly in per-1978 buildings\, but in others also\, workers may come in to contact with lead based paint or lead in a form that may cause exposure and are employers are required to provide training to those workers on WAC 296-155-176. This class covers containment\, work practices\, PPE and decontamination for health hazards.&nbsp\;<br />\n<br />\nInstructor\, Kris Alberti\, CAPS\, CGP</div>\n
LOCATION:MBA of Pierce County 3711 Center St Tacoma\, WA 98409
UID:e.9280.1804
SEQUENCE:3
DTSTAMP:20260422T083435Z
URL:https://members.masterbuilderspierce.com/events/details/silica-asbestos-and-lead-awareness-in-residential-construction-1804
END:VEVENT

END:VCALENDAR
