BEGIN:VCALENDAR
VERSION:2.0
PRODID:-//ChamberMaster//Event Calendar 2.0//EN
METHOD:PUBLISH
X-PUBLISHED-TTL:P3D
REFRESH-INTERVAL:P3D
CALSCALE:GREGORIAN
BEGIN:VEVENT
DTSTART:20160928T180000Z
DTEND:20160928T200000Z
X-MICROSOFT-CDO-ALLDAYEVENT:FALSE
SUMMARY:ROII - ABC's of Claims Management (9/28/2016)
DESCRIPTION:R.O.I.I.  Select\n\n\nR.O.I.I. Select\n\nThe ABCs of Claim Management Class\n\nAs a condition of enrollment in R.O.I.I.  Select all member participants are required to attend this class.Failure to take this class could affect your enrollment in the program. We request the company owner or person(s) responsible for hiring personnel and/or return to work/hiring decisions attend the class.\n\nAttendees will learn how a proactive approach to claims management can improve your bottom line. This information-packed\, interactive\, one and one-half to two-hour class will teach you effective ways to close claims quickly and what you can do to prevent a work place injury.\n\nWhat The Class Will Teach You\n\n\n	The warning signs of a bogus claim\n	How to prevent a claim from spinning out of control\n	How a Return-to-Work program works and how you can get reimbursed for half of the payroll costs of employees on modified duty work\n	How better hiring practices can actually reduce injuries in your work place and save you time\, money and aggravation\n\n\nWhat The Class Will Cover\n\n\n	What you can do to influence the costs of an injured employee\n	Your role and responsibility in the claim process\n	How BIAW helps you through the claims process\n\n\nRegistration\n\nPlease register with R.O.I.I.  Select Enrollment Coordinator Jessica Matriotti at 360-352-7800\, ext. 132 or jessicam@biaw.com.
X-ALT-DESC;FMTTYPE=text/html:<div id="pagetitle" style="position: relative\; top: -55px\; font-family: Arial\, Helvetica\, sans-serif\; font-size: 1.75em\; line-height: 1.1em\; font-weight: bold\; width: 275px\; margin-bottom: -45px\; overflow: hidden\; color: rgb(53\, 112\, 147)\; border-bottom-style: solid\; border-bottom-width: 1px\; padding-bottom: 10px\; border-bottom-color: rgb(192\, 192\, 192)\; background-color: rgb(255\, 255\, 255)\;">R.O.I.I.&reg\; Select</div>\n\n<div style="color: rgb(71\, 73\, 75)\; font-family: Arial\; font-size: 12.1px\; line-height: 17.545px\; background-color: rgb(255\, 255\, 255)\;">\n<h3 style="margin-top: 0.5em\; margin-bottom: 0.5em\; color: rgb(0\, 128\, 0)\;"><strong>R.O.I.I. Select</strong><br />\nThe ABCs of Claim Management Class</h3>\n\n<p>As a condition of enrollment in R.O.I.I.&reg\; Select all member participants are required to attend this class.<font color="red"><i>Failure to take this class could affect your enrollment in the program.</i></font>&nbsp\;<font color="green">We request the company owner or person(s) responsible for hiring personnel and/or return to work/hiring decisions attend the class.</font></p>\n\n<p>Attendees will learn how a proactive approach to claims management can improve your bottom line. This information-packed\, interactive\, one and one-half to two-hour class will teach you effective ways to close claims quickly and what you can do to prevent a work place injury.</p>\n\n<h3 style="margin-top: 0.5em\; margin-bottom: 0.5em\; color: rgb(0\, 128\, 0)\;">What The Class Will Teach You</h3>\n\n<ul style="margin-left: 30px\; font-size: 1.1em\; margin-top: 0px\;">\n	<li class="nomargin" style="margin-top: 0.5em\; margin-left: 12px\;">The warning signs of a bogus claim</li>\n	<li class="nomargin" style="margin-top: 0.5em\; margin-left: 12px\;">How to prevent a claim from spinning out of control</li>\n	<li class="nomargin" style="margin-top: 0.5em\; margin-left: 12px\;">How a Return-to-Work program works and how you can get reimbursed for half of the payroll costs of employees on modified duty work</li>\n	<li class="nomargin" style="margin-top: 0.5em\; margin-left: 12px\;">How better hiring practices can actually reduce injuries in your work place and save you time\, money and aggravation</li>\n</ul>\n\n<h3 style="margin-top: 0.5em\; margin-bottom: 0.5em\; color: rgb(0\, 128\, 0)\;">What The Class Will Cover</h3>\n\n<ul style="margin-left: 30px\; font-size: 1.1em\; margin-top: 0px\;">\n	<li class="nomargin" style="margin-top: 0.5em\; margin-left: 12px\;">What you can do to influence the costs of an injured employee</li>\n	<li class="nomargin" style="margin-top: 0.5em\; margin-left: 12px\;">Your role and responsibility in the claim process</li>\n	<li class="nomargin" style="margin-top: 0.5em\; margin-left: 12px\;">How BIAW helps you through the claims process</li>\n</ul>\n\n<h3 style="font-weight: normal\; line-height: 1.2\; font-family: Arial\; margin-top: 0.5em\; margin-bottom: 0.5em\; color: rgb(0\, 128\, 0)\;">Registration</h3>\n\n<p style="color: rgb(71\, 73\, 75)\; font-family: Arial\; font-size: 12.1px\; line-height: 17.545px\;">Please register with R.O.I.I.&reg\; Select Enrollment Coordinator Jessica&nbsp\;Matriotti&nbsp\;at 360-352-7800\, ext. 132 or&nbsp\;<a href="mailto:jessicam@biaw.com" style="color: rgb(53\, 112\, 147)\;">jessicam@biaw.com</a>.</p>\n\n<h3 style="margin-top: 0.5em\; margin-bottom: 0.5em\; color: rgb(0\, 128\, 0)\;">&nbsp\;</h3>\n</div>\n
LOCATION:MBA of Pierce County\, 1120 Pacific Ave\, Ste 301\, Tacoma\, WA 98402
UID:e.9280.103
SEQUENCE:3
DTSTAMP:20260422T215853Z
URL:https://members.masterbuilderspierce.com/events/details/roii-abc-s-of-claims-management-9-28-2016-09-28-2016-103
END:VEVENT

END:VCALENDAR
