BEGIN:VCALENDAR
VERSION:2.0
PRODID:-//ChamberMaster//Event Calendar 2.0//EN
METHOD:PUBLISH
X-PUBLISHED-TTL:P3D
REFRESH-INTERVAL:P3D
CALSCALE:GREGORIAN
BEGIN:VEVENT
DTSTART:20190926T180000Z
DTEND:20190926T200000Z
X-MICROSOFT-CDO-ALLDAYEVENT:FALSE
SUMMARY:ROII - ABC's of Claims Management - 9/26/19 - Cancelled
DESCRIPTION:This class has been cancelled.\n\n\n\nR.O.I.I.  Select R.O.I.I. Select \n\n\n\nThe ABCs of Claim Management Class \n\nAs a condition of enrollment in R.O.I.I.  Select all member participants are required to attend this class.Failure to take this class could affect your enrollment in the program. We request the company owner or person(s) responsible for hiring personnel and/or return to work/hiring decisions attend the class.\n\n\n\nAttendees will learn how a proactive approach to claims management can improve your bottom line. This information-packed\, interactive\, one and one-half to two-hour class will teach you effective ways to close claims quickly and what you can do to prevent a work place injury.\n\n\n\nWhat The Class Will Teach You \n\n	The warning signs of a bogus claim\n	How to prevent a claim from spinning out of control\n	How a Return-to-Work program works and how you can get reimbursed for half of the payroll costs of employees on modified duty work\n	How better hiring practices can actually reduce injuries in your work place and save you time\, money and aggravation\n\n\n\nWhat The Class Will Cover\n\n\n	What you can do to influence the costs of an injured employee\n	Your role and responsibility in the claim process\n	How BIAW helps you through the claims process\n\n\n\nPlease register with R.O.I.I.  Select Enrollment Coordinator Jessica Bass at 360-352-7800\, ext. 132 or jessicab@biaw.com.
X-ALT-DESC;FMTTYPE=text/html:<em><strong>This class has been cancelled.</strong></em><br />\n<br />\n<u><strong>R.O.I.I.&reg\; Select R.O.I.I. Select </strong></u><br />\n<br />\n<strong>The ABCs of Claim Management Class </strong><br />\nAs a condition of enrollment in R.O.I.I.&reg\; Select all member participants are required to attend this class.Failure to take this class could affect your enrollment in the program. We request the company owner or person(s) responsible for hiring personnel and/or return to work/hiring decisions attend the class.<br />\n<br />\nAttendees will learn how a proactive approach to claims management can improve your bottom line. This information-packed\, interactive\, one and one-half to two-hour class will teach you effective ways to close claims quickly and what you can do to prevent a work place injury.<br />\n<br />\n<strong>What The Class Will Teach You </strong>\n<ul>\n	<li>The warning signs of a bogus claim</li>\n	<li>How to prevent a claim from spinning out of control</li>\n	<li>How a Return-to-Work program works and how you can get reimbursed for half of the payroll costs of employees on modified duty work</li>\n	<li>How better hiring practices can actually reduce injuries in your work place and save you time\, money and aggravation</li>\n</ul>\n<br />\n<strong>What The Class Will Cover</strong>\n\n<ul>\n	<li>What you can do to influence the costs of an injured employee</li>\n	<li>Your role and responsibility in the claim process</li>\n	<li>How BIAW helps you through the claims process</li>\n</ul>\n<br />\nPlease register with R.O.I.I.&reg\; Select Enrollment Coordinator Jessica Bass at 360-352-7800\, ext. 132 or jessicab@biaw.com.
LOCATION:MBA of Pierce County 3711 Center St Tacoma\, WA 98409
UID:e.9280.3928
SEQUENCE:3
DTSTAMP:20260421T103157Z
URL:https://members.masterbuilderspierce.com/events/details/roii-abc-s-of-claims-management-9-26-19-cancelled-3928
END:VEVENT

END:VCALENDAR
