BEGIN:VCALENDAR
VERSION:2.0
PRODID:-//ChamberMaster//Event Calendar 2.0//EN
METHOD:PUBLISH
X-PUBLISHED-TTL:P3D
REFRESH-INTERVAL:P3D
CALSCALE:GREGORIAN
BEGIN:VEVENT
DTSTART:20190307T150000Z
DTEND:20190308T010000Z
X-MICROSOFT-CDO-ALLDAYEVENT:FALSE
SUMMARY:RIDE THE MOUNTAIN with MBA Pierce!
DESCRIPTION:RIDE THE MOUNTAIN with MBA Pierce!\n\n \n\n	7:00 a.m. -- Cozy first-class bus ride serving breakfast with hot coffee\, Baileys and fresh orange juice Mimosas and Warren Miller Video sponsored by Buffington Homes and Communities\n	MBA Pierce Goodie Bags\n	12:00 p.m. to 1:00 p.m. -- BBQ Lunch at Crystal Lodge \n	4:30 p.m. -- Raffle give away at Snorting Elk\n	5:00 p.m. -- Departure home from Crystal Mountain with snacks\, music\, movie and party sponsored by Sager Family Homes!\n\n\n \n\n \n\n**Discounted group lift tickets are available for this event which includes skiing\, snowboarding\, cross country\, gondola rides\, sledders\, lessons and snow shoeing. You can also rent equipment at a discounted group rate.\n\n\n\nFor questions please contact Bonnie Buffington (253-303-1680) or Carol Pope (253-380-2734).\n\nClick here for more information about our destination\, Crystal Mountain.
X-ALT-DESC;FMTTYPE=text/html:<strong>RIDE THE MOUNTAIN with MBA Pierce!</strong><br />\n&nbsp\;\n<ul>\n	<li>7:00 a.m. -- Cozy first-class bus ride serving breakfast with hot coffee\, Baileys and fresh orange juice Mimosas and Warren Miller Video sponsored by Buffington Homes and Communities</li>\n	<li><span style="background-color:rgba(255\, 255\, 255\, 0)\;">MBA Pierce Goodie Bags</span></li>\n	<li>12:00 p.m. to 1:00 p.m. --&nbsp\;BBQ Lunch at Crystal Lodge&nbsp\;</li>\n	<li><span style="background-color:rgba(255\, 255\, 255\, 0)\;">4:30 p.m. -- Raffle give away at Snorting Elk</span></li>\n	<li>5:00 p.m. -- Departure home from Crystal Mountain with snacks\, music\, movie and party sponsored by Sager Family Homes!</li>\n</ul>\n\n<p>&nbsp\;<br />\n&nbsp\;<br />\n**Discounted group lift tickets are available for this event which includes skiing\, snowboarding\, cross country\, gondola rides\, sledders\, lessons and snow shoeing.&nbsp\;<span style="font-family:calibri\,sans-serif\;"><span style="font-size:11.0pt\;">You can also rent equipment at a discounted group rate.</span></span><br />\n<br />\nFor questions please contact Bonnie Buffington (253-303-1680) or Carol Pope (253-380-2734).</p>\n\n<p><a href="https://www.crystalmountainresort.com/">Click here for more information about our destination\, Crystal Mountain.</a></p>\n
LOCATION:First pick up 7:00 a.m. Tacoma Mall Park and Ride Second pick up 7:30 a.m. Puyallup South Hill Park and Ride Departs 5:00 p.m. Crystal Mountain to both Puyallup and Tacoma
UID:e.9280.3932
SEQUENCE:3
DTSTAMP:20260419T123553Z
URL:https://members.masterbuilderspierce.com/events/details/ride-the-mountain-with-mba-pierce-3932
END:VEVENT

END:VCALENDAR
