BEGIN:VCALENDAR
VERSION:2.0
PRODID:-//ChamberMaster//Event Calendar 2.0//EN
METHOD:PUBLISH
X-PUBLISHED-TTL:P3D
REFRESH-INTERVAL:P3D
CALSCALE:GREGORIAN
BEGIN:VEVENT
DTSTART:20260605T000000Z
DTEND:20260605T040000Z
X-MICROSOFT-CDO-ALLDAYEVENT:FALSE
SUMMARY:REX Awards
DESCRIPTION:Join us for an evening celebrating the best in remodeling at the Remodeling Excellence Awards. This event highlights the outstanding craftsmanship\, innovation\, and dedication of projects across Pierce County.\n\nCome out and support our local remodelers while enjoying a night of connection and celebration at the Tacoma Yacht Club on June 4 from 5 to 9 pm. Cocktail attire is encouraged. Guests will enjoy drinks\, appetizers\, dinner\, dessert\, and the awards presentation honoring this year's top projects.
X-ALT-DESC;FMTTYPE=text/html:<section class="text-token-text-primary w-full focus:outline-none [--shadow-height:45px] has-data-writing-block:pointer-events-none has-data-writing-block:-mt-(--shadow-height) has-data-writing-block:pt-(--shadow-height) [&amp\;:has([data-writing-block])&gt\;*]:pointer-events-auto scroll-mt-(--header-height)" data-scroll-anchor="false" data-testid="conversation-turn-1" data-turn="user" data-turn-id="36c71350-346c-4a6b-ac92-37c49c403bf3" dir="auto">&nbsp\;</section>\n\n<section class="text-token-text-primary w-full focus:outline-none [--shadow-height:45px] has-data-writing-block:pointer-events-none has-data-writing-block:-mt-(--shadow-height) has-data-writing-block:pt-(--shadow-height) [&amp\;:has([data-writing-block])&gt\;*]:pointer-events-auto scroll-mt-[calc(var(--header-height)+min(200px\,max(70px\,20svh)))]" data-scroll-anchor="true" data-testid="conversation-turn-2" data-turn="assistant" data-turn-id="request-WEB:2d77d907-0f08-48a4-92e7-c2cdd879a396-0" dir="auto">\n<div class="text-base my-auto mx-auto pb-10 [--thread-content-margin:var(--thread-content-margin-xs\,calc(var(--spacing)*4))] @w-sm/main:[--thread-content-margin:var(--thread-content-margin-sm\,calc(var(--spacing)*6))] @w-lg/main:[--thread-content-margin:var(--thread-content-margin-lg\,calc(var(--spacing)*16))] px-(--thread-content-margin)">\n<div class="[--thread-content-max-width:40rem] @w-lg/main:[--thread-content-max-width:48rem] mx-auto max-w-(--thread-content-max-width) flex-1 group/turn-messages focus-visible:outline-hidden relative flex w-full min-w-0 flex-col agent-turn">\n<div class="flex max-w-full flex-col gap-4 grow">\n<div class="min-h-8 text-message relative flex w-full flex-col items-end gap-2 text-start break-words whitespace-normal outline-none keyboard-focused:focus-ring [.text-message+&amp\;]:mt-1" data-message-author-role="assistant" data-message-id="71281d84-70b1-4015-a7fc-c68b298f190d" data-message-model-slug="gpt-5-3" data-turn-start-message="true" dir="auto" tabindex="0">\n<div class="flex w-full flex-col gap-1 empty:hidden">\n<div class="markdown prose dark:prose-invert w-full wrap-break-word light markdown-new-styling">\n<p data-end="208" data-start="0">Join us for an evening celebrating the best in remodeling at the Remodeling Excellence Awards. This event highlights the outstanding craftsmanship\, innovation\, and dedication of projects across Pierce County.</p>\n\n<p data-end="504" data-is-last-node="" data-is-only-node="" data-start="210">Come out and support our local remodelers while enjoying a night of connection and celebration at the Tacoma Yacht Club on June 4 from 5 to 9 pm. Cocktail attire is encouraged. Guests will enjoy drinks\, appetizers\, dinner\, dessert\, and the awards presentation honoring this year&rsquo\;s top projects.</p>\n</div>\n</div>\n</div>\n</div>\n</div>\n</div>\n</section>\n
LOCATION:Tacoma Yacht Club 5401 Yacht Club Rd\, Tacoma\, WA 98407
UID:e.9280.5324
SEQUENCE:3
DTSTAMP:20260421T173144Z
URL:https://members.masterbuilderspierce.com/events/details/rex-awards-5324
END:VEVENT

END:VCALENDAR
