BEGIN:VCALENDAR
VERSION:2.0
PRODID:-//ChamberMaster//Event Calendar 2.0//EN
METHOD:PUBLISH
X-PUBLISHED-TTL:P3D
REFRESH-INTERVAL:P3D
CALSCALE:GREGORIAN
BEGIN:VEVENT
DTSTART:20171205T223000Z
DTEND:20171206T003000Z
X-MICROSOFT-CDO-ALLDAYEVENT:FALSE
SUMMARY:RESCHEDULED: PR Committee Meeting
DESCRIPTION:The PR Committee strives to enhance a positive awareness of the MBA\, provides timely and relevant communication to members and the media\, organize and supports community outreach programs. Reviews General Membership Meeting content. Meetings are held the first Tuesday of every month at 2:30 pm at the MBA Pierce office.
X-ALT-DESC;FMTTYPE=text/html:<p style="box-sizing: border-box\; margin: 0px 0px 10px\; font-family: Calibri\, Verdana\, Geneva\, sans-serif\; font-size: 16px\;">The PR Committee strives to enhance a positive awareness of the MBA\, provides timely and relevant communication to members and the media\, organize and supports community outreach programs. Reviews General Membership Meeting content. Meetings are held the first Tuesday of every month at 2:30 pm at the MBA Pierce office.</p>\n
LOCATION:MBA Pierce office 3711 Center St.\, Tacoma WA 98409
UID:e.9280.1861
SEQUENCE:3
DTSTAMP:20260422T004335Z
URL:https://members.masterbuilderspierce.com/events/details/rescheduled-pr-committee-meeting-1861
END:VEVENT

END:VCALENDAR
