BEGIN:VCALENDAR
VERSION:2.0
PRODID:-//ChamberMaster//Event Calendar 2.0//EN
METHOD:PUBLISH
X-PUBLISHED-TTL:P3D
REFRESH-INTERVAL:P3D
CALSCALE:GREGORIAN
BEGIN:VEVENT
DTSTART:20170301T013000Z
DTEND:20170301T033000Z
X-MICROSOFT-CDO-ALLDAYEVENT:FALSE
SUMMARY:Remodelors Council Trifecta at Totem Yacht Club
DESCRIPTION:Its the Remodelors Council Trifecta ... 3 great speakers with 3 great topics! Join us for our February meeting on Tuesday\, February 28 at Totem Yacht Club in Ruston. \n\n\n\nRick Hjelm\, Phase II General Contractor Inc - Keeping us up to-date on what we need to know regarding our Federal\, State and Local issues/taxes. How will they effect your business?\n\n\n\nGene Krawchuk\, Wells Fargo Home Mortgage - Understanding the latest financing options for renovation projects of all sizes.\n\n\n\nCiera Lopez\, Korum's Puyallup Nissan/Nissan Commercial Vehicles - See the 2017 Nissan Titan XD Single Cab SV Diesel and the NV200.\n\n\n\nSpecial thanks to our sponsors:\n\nHyland Cabinetworks (Dinner)\n\nKorum's Puyallup Nissan (Beverages)
X-ALT-DESC;FMTTYPE=text/html:Its the Remodelors Council Trifecta ... 3 great speakers with 3 great topics! Join us for our February meeting on Tuesday\, February 28 at Totem Yacht Club in Ruston.&nbsp\;<br />\n<br />\n<strong>Rick Hjelm\, Phase II General Contractor Inc - </strong>Keeping us up to-date on what we need to know regarding our Federal\, State and Local issues/taxes. How will they effect your business?<br />\n<br />\n<strong>Gene Krawchuk\, Wells Fargo Home Mortgage -&nbsp\;</strong>Understanding the latest financing options for renovation projects of all sizes.<br />\n<br />\n<strong>Ciera Lopez\, Korum&#39\;s Puyallup Nissan/Nissan Commercial Vehicles -&nbsp\;</strong>See the 2017 Nissan Titan XD Single Cab SV Diesel and the NV200.<br />\n<br />\n<em>Special thanks to our sponsors:<br />\nHyland Cabinetworks (Dinner)<br />\nKorum&#39\;s Puyallup Nissan (Beverages)</em>
LOCATION:Totem Yacht Club 5045 N Highland St Ruston\, WA 98407
UID:e.9280.1095
SEQUENCE:3
DTSTAMP:20260422T143941Z
URL:https://members.masterbuilderspierce.com/events/details/remodelors-council-trifecta-at-totem-yacht-club-1095
END:VEVENT

END:VCALENDAR
