BEGIN:VCALENDAR
VERSION:2.0
PRODID:-//ChamberMaster//Event Calendar 2.0//EN
METHOD:PUBLISH
X-PUBLISHED-TTL:P3D
REFRESH-INTERVAL:P3D
CALSCALE:GREGORIAN
BEGIN:VEVENT
DTSTART:20171129T003000Z
DTEND:20171129T013000Z
X-MICROSOFT-CDO-ALLDAYEVENT:FALSE
SUMMARY:Remodelors Council Steering Committee
DESCRIPTION:The RC Steering Committee meets every 4th Tuesday of the month at 5PM at the same location as that month's Remodelors Council meeting.
X-ALT-DESC;FMTTYPE=text/html:The RC Steering Committee meets every 4th Tuesday of the month at 5PM at the same location as that month&#39\;s&nbsp\;Remodelors Council meeting.&nbsp\;
LOCATION:*Main meeting location
UID:e.9280.961
SEQUENCE:3
DTSTAMP:20260422T004637Z
URL:https://members.masterbuilderspierce.com/events/details/remodelors-council-steering-committee-11-28-2017-961
END:VEVENT

END:VCALENDAR
