BEGIN:VCALENDAR
VERSION:2.0
PRODID:-//ChamberMaster//Event Calendar 2.0//EN
METHOD:PUBLISH
X-PUBLISHED-TTL:P3D
REFRESH-INTERVAL:P3D
CALSCALE:GREGORIAN
BEGIN:VEVENT
DTSTART:20171030T233000Z
DTEND:20171031T003000Z
X-MICROSOFT-CDO-ALLDAYEVENT:FALSE
SUMMARY:Remodelors Council Steering Committee
DESCRIPTION:The RC Steering Committee meets every 4th Tuesday of the month at 4:30 PM at the MBA Pierce office    .
X-ALT-DESC;FMTTYPE=text/html:The RC Steering Committee meets every 4th Tuesday of the month at 4:30 PM at the MBA Pierce office&nbsp\;&nbsp\;&nbsp\;&nbsp\;.&nbsp\;
LOCATION:3711 Center St. Tacoma\, WA 98409
UID:e.9280.960
SEQUENCE:3
DTSTAMP:20260422T022121Z
URL:https://members.masterbuilderspierce.com/events/details/remodelors-council-steering-committee-10-24-2017-960
END:VEVENT

END:VCALENDAR
