BEGIN:VCALENDAR
VERSION:2.0
PRODID:-//ChamberMaster//Event Calendar 2.0//EN
METHOD:PUBLISH
X-PUBLISHED-TTL:P3D
REFRESH-INTERVAL:P3D
CALSCALE:GREGORIAN
BEGIN:VEVENT
DTSTART:20160629T000000Z
DTEND:20160629T010000Z
X-MICROSOFT-CDO-ALLDAYEVENT:FALSE
SUMMARY:Remodelors Council Steering Committee
DESCRIPTION:
X-ALT-DESC;FMTTYPE=text/html:
LOCATION:Huntwood Cabinets 19717 62nd Ave S Kent\, WA
UID:e.9280.944
SEQUENCE:3
DTSTAMP:20260423T040738Z
URL:https://members.masterbuilderspierce.com/events/details/remodelors-council-steering-committee-06-28-2016-944
END:VEVENT

END:VCALENDAR
