BEGIN:VCALENDAR
VERSION:2.0
PRODID:-//ChamberMaster//Event Calendar 2.0//EN
METHOD:PUBLISH
X-PUBLISHED-TTL:P3D
REFRESH-INTERVAL:P3D
CALSCALE:GREGORIAN
BEGIN:VEVENT
DTSTART:20180626T230000Z
DTEND:20180627T003000Z
X-MICROSOFT-CDO-ALLDAYEVENT:FALSE
SUMMARY:2016 Remodelors Council Steering Committee - February 23
DESCRIPTION:The RC Steering Committee meets every 4th Tuesday of the month at 5PM at the same location as that month's Remodelors Council meeting.
X-ALT-DESC;FMTTYPE=text/html:The RC Steering Committee meets every 4th Tuesday of the month at 5PM at the same location as that month&#39\;s&nbsp\;Remodelors Council meeting.&nbsp\;
LOCATION:*Main meeting location
UID:e.9280.968
SEQUENCE:3
DTSTAMP:20260421T142847Z
URL:https://members.masterbuilderspierce.com/events/details/remodelors-council-steering-committee-06-26-2018-968
END:VEVENT

END:VCALENDAR
