BEGIN:VCALENDAR
VERSION:2.0
PRODID:-//ChamberMaster//Event Calendar 2.0//EN
METHOD:PUBLISH
X-PUBLISHED-TTL:P3D
REFRESH-INTERVAL:P3D
CALSCALE:GREGORIAN
BEGIN:VEVENT
DTSTART:20170125T013000Z
DTEND:20170125T033000Z
X-MICROSOFT-CDO-ALLDAYEVENT:FALSE
SUMMARY:Remodelors Council Meeting hosted by Theater One & GreenHaven Interactive
DESCRIPTION:Join us for the first Remodelors Council meeting of 2017 at the Great American Casino in Lakewood hosted by Theater One and GreenHaven Interactive! \n\n\n\nLet's get to know ....\n\n\n\nJeff George of Theater One - tell us what is new in home theater\n\n\n\nChris Lee speaking for GreenHaven Interactive - tell us what personalized internet marketing can do for you\n\n\n\nRSVP now and let's have an amazing turn out for our hosts!
X-ALT-DESC;FMTTYPE=text/html:Join us for the first Remodelors Council meeting of 2017 at the Great American Casino in Lakewood hosted by Theater One and GreenHaven Interactive!&nbsp\;<br />\n<br />\nLet&#39\;s get to know ....<br />\n<br />\n<strong>Jeff George of Theater One</strong> - tell us what is new in home theater<br />\n<br />\n<strong>Chris Lee speaking for GreenHaven Interactive</strong> - tell us what personalized internet marketing can do for you<br />\n<br />\n<strong>RSVP now and let&#39\;s have an amazing turn out for our hosts!</strong>
LOCATION:Great American Casino 10117 South Tacoma Way Tacoma\, WA 98466
UID:e.9280.1094
SEQUENCE:3
DTSTAMP:20260422T155249Z
URL:https://members.masterbuilderspierce.com/events/details/remodelors-council-meeting-hosted-by-theater-one-greenhaven-interactive-1094
END:VEVENT

END:VCALENDAR
