BEGIN:VCALENDAR
VERSION:2.0
PRODID:-//ChamberMaster//Event Calendar 2.0//EN
METHOD:PUBLISH
X-PUBLISHED-TTL:P3D
REFRESH-INTERVAL:P3D
CALSCALE:GREGORIAN
BEGIN:VEVENT
DTSTART:20160427T010000Z
DTEND:20160427T030000Z
X-MICROSOFT-CDO-ALLDAYEVENT:FALSE
SUMMARY:Remodelors Council Meeting at Water Concepts Kitchen & Bath
DESCRIPTION:Join the Remodelors Council at Water Concepts Kitchen & Bath for an evening of networking and fun as we get to see the latest and greatest from Water Concepts and their vendors. Devin and his staff always put on a great program for the RC and you do not want to miss it!
X-ALT-DESC;FMTTYPE=text/html:Join the Remodelors Council at Water Concepts Kitchen &amp\; Bath for an evening of networking and fun as we get to see the latest and greatest from Water Concepts and their vendors. Devin and his staff always put on a great program for the RC and you do not want to miss it!
LOCATION:Water Concepts Kitchen & Bath 3505 S Tacoma Way Tacoma
UID:e.9280.1085
SEQUENCE:3
DTSTAMP:20260423T054446Z
URL:https://members.masterbuilderspierce.com/events/details/remodelors-council-meeting-at-water-concepts-kitchen-bath-04-26-2016-1085
END:VEVENT

END:VCALENDAR
