BEGIN:VCALENDAR
VERSION:2.0
PRODID:-//ChamberMaster//Event Calendar 2.0//EN
METHOD:PUBLISH
X-PUBLISHED-TTL:P3D
REFRESH-INTERVAL:P3D
CALSCALE:GREGORIAN
BEGIN:VEVENT
DTSTART:20160928T010000Z
DTEND:20160928T030000Z
X-MICROSOFT-CDO-ALLDAYEVENT:FALSE
SUMMARY:Remodelors Council Meeting at the Old Spaghetti Factory
DESCRIPTION:
X-ALT-DESC;FMTTYPE=text/html:
LOCATION:1250 Pacific Ave #101 Tacoma\, WA 98402 Free Parking in the garage behind the restaurant
UID:e.9280.1090
SEQUENCE:3
DTSTAMP:20260422T220016Z
URL:https://members.masterbuilderspierce.com/events/details/remodelors-council-meeting-at-the-old-spaghetti-factory-1090
END:VEVENT

END:VCALENDAR
