BEGIN:VCALENDAR
VERSION:2.0
PRODID:-//ChamberMaster//Event Calendar 2.0//EN
METHOD:PUBLISH
X-PUBLISHED-TTL:P3D
REFRESH-INTERVAL:P3D
CALSCALE:GREGORIAN
BEGIN:VEVENT
DTSTART:20160629T010000Z
DTEND:20160629T030000Z
X-MICROSOFT-CDO-ALLDAYEVENT:FALSE
SUMMARY:Remodelors Council Meeting at Huntwood Cabinets
DESCRIPTION:
X-ALT-DESC;FMTTYPE=text/html:
LOCATION:Huntwood Cabinets 19717 62nd Ave S Kent\, WA
UID:e.9280.1087
SEQUENCE:3
DTSTAMP:20260423T041035Z
URL:https://members.masterbuilderspierce.com/events/details/remodelors-council-meeting-at-huntwood-cabinets-06-28-2016-1087
END:VEVENT

END:VCALENDAR
