BEGIN:VCALENDAR
VERSION:2.0
PRODID:-//ChamberMaster//Event Calendar 2.0//EN
METHOD:PUBLISH
X-PUBLISHED-TTL:P3D
REFRESH-INTERVAL:P3D
CALSCALE:GREGORIAN
BEGIN:VEVENT
DTSTART:20160323T010000Z
DTEND:20160323T030000Z
X-MICROSOFT-CDO-ALLDAYEVENT:FALSE
SUMMARY:Remodelors Council Meeting at Famous Dave's BBQ
DESCRIPTION:Join the MBA Pierce Remodelors Council for some fabulous BBQ and Networking! The dinner bell will ring shortly after 6:00 pm\, RSVP now.
X-ALT-DESC;FMTTYPE=text/html:Join the MBA Pierce Remodelors Council for some fabulous BBQ and Networking! The dinner bell will ring shortly after 6:00 pm\, RSVP now.
LOCATION:Famous Dave's BBQ 1901 S 72nd St\, Ste C-39 Tacoma\, WA 98408
UID:e.9280.1084
SEQUENCE:3
DTSTAMP:20260423T070524Z
URL:https://members.masterbuilderspierce.com/events/details/remodelors-council-meeting-at-famous-dave-s-bbq-03-22-2016-1084
END:VEVENT

END:VCALENDAR
