BEGIN:VCALENDAR
VERSION:2.0
PRODID:-//ChamberMaster//Event Calendar 2.0//EN
METHOD:PUBLISH
X-PUBLISHED-TTL:P3D
REFRESH-INTERVAL:P3D
CALSCALE:GREGORIAN
BEGIN:VEVENT
DTSTART:20170823T010000Z
DTEND:20170823T030000Z
X-MICROSOFT-CDO-ALLDAYEVENT:FALSE
SUMMARY:Remodelors Council Meeting at Contract Furnishings Mart
DESCRIPTION:Join us on August 22\, for their annual meeting  at Contract Furnishings Mart! CFM always puts out the welcome mat and this meeting is no exception. Come to network with your RC counterparts\, learn all about the latest and greatest at CFM and enjoy some great food and drinks!
X-ALT-DESC;FMTTYPE=text/html:Join us on August 22\, for their annual meeting &nbsp\;at Contract Furnishings Mart! CFM always puts out the welcome mat and this meeting is no exception. Come to network with your RC counterparts\, learn all about the latest and greatest at CFM and enjoy some great food and drinks!
LOCATION:Contract Furnishings Mart 3600 Industry Dr E E\, Tacoma\, WA 98424
UID:e.9280.1101
SEQUENCE:3
DTSTAMP:20260422T064336Z
URL:https://members.masterbuilderspierce.com/events/details/remodelors-council-meeting-at-contract-furnishings-mart-1101
END:VEVENT

END:VCALENDAR
