BEGIN:VCALENDAR
VERSION:2.0
PRODID:-//ChamberMaster//Event Calendar 2.0//EN
METHOD:PUBLISH
X-PUBLISHED-TTL:P3D
REFRESH-INTERVAL:P3D
CALSCALE:GREGORIAN
BEGIN:VEVENT
DTSTART:20321207T230000Z
DTEND:20321208T003000Z
X-MICROSOFT-CDO-ALLDAYEVENT:FALSE
SUMMARY:Remodelors Council Meeting
DESCRIPTION:
X-ALT-DESC;FMTTYPE=text/html:
LOCATION:
UID:e.9280.5587
SEQUENCE:3
DTSTAMP:20260420T004422Z
URL:https://members.masterbuilderspierce.com/events/details/remodelors-council-meeting-12-07-2032-5587
END:VEVENT

END:VCALENDAR
