BEGIN:VCALENDAR
VERSION:2.0
PRODID:-//ChamberMaster//Event Calendar 2.0//EN
METHOD:PUBLISH
X-PUBLISHED-TTL:P3D
REFRESH-INTERVAL:P3D
CALSCALE:GREGORIAN
BEGIN:VEVENT
DTSTART:20310805T220000Z
DTEND:20310805T233000Z
X-MICROSOFT-CDO-ALLDAYEVENT:FALSE
SUMMARY:Remodelors Council Meeting
DESCRIPTION:
X-ALT-DESC;FMTTYPE=text/html:
LOCATION:
UID:e.9280.5571
SEQUENCE:3
DTSTAMP:20260421T075626Z
URL:https://members.masterbuilderspierce.com/events/details/remodelors-council-meeting-08-05-2031-5571
END:VEVENT

END:VCALENDAR
