BEGIN:VCALENDAR
VERSION:2.0
PRODID:-//ChamberMaster//Event Calendar 2.0//EN
METHOD:PUBLISH
X-PUBLISHED-TTL:P3D
REFRESH-INTERVAL:P3D
CALSCALE:GREGORIAN
BEGIN:VEVENT
DTSTART:20310701T220000Z
DTEND:20310701T233000Z
X-MICROSOFT-CDO-ALLDAYEVENT:FALSE
SUMMARY:Remodelors Council Meeting
DESCRIPTION:
X-ALT-DESC;FMTTYPE=text/html:
LOCATION:
UID:e.9280.5570
SEQUENCE:3
DTSTAMP:20260421T075626Z
URL:https://members.masterbuilderspierce.com/events/details/remodelors-council-meeting-07-01-2031-5570
END:VEVENT

END:VCALENDAR
