BEGIN:VCALENDAR
VERSION:2.0
PRODID:-//ChamberMaster//Event Calendar 2.0//EN
METHOD:PUBLISH
X-PUBLISHED-TTL:P3D
REFRESH-INTERVAL:P3D
CALSCALE:GREGORIAN
BEGIN:VEVENT
DTSTART:20330301T230000Z
DTEND:20330302T003000Z
X-MICROSOFT-CDO-ALLDAYEVENT:FALSE
SUMMARY:Remodelors Council Meeting
DESCRIPTION:
X-ALT-DESC;FMTTYPE=text/html:
LOCATION:
UID:e.9280.5590
SEQUENCE:3
DTSTAMP:20260419T200825Z
URL:https://members.masterbuilderspierce.com/events/details/remodelors-council-meeting-03-01-2033-5590
END:VEVENT

END:VCALENDAR
