BEGIN:VCALENDAR
VERSION:2.0
PRODID:-//ChamberMaster//Event Calendar 2.0//EN
METHOD:PUBLISH
X-PUBLISHED-TTL:P3D
REFRESH-INTERVAL:P3D
CALSCALE:GREGORIAN
BEGIN:VEVENT
DTSTART:20160824T010000Z
DTEND:20160824T030000Z
X-MICROSOFT-CDO-ALLDAYEVENT:FALSE
SUMMARY:Remodelors Council @ Contract Furnishings Mart
DESCRIPTION:It's BBQ time! Join the Remodelors Council for their annual meeting at Contract Furnishings Mart on Tuesday\, August 23. CFM always puts out the welcome mat and this meeting is no exception. Come to network with your RC counterparts\, learn all about the latest and greatest at CFM and enjoy some great BBQ!
X-ALT-DESC;FMTTYPE=text/html:It&#39\;s BBQ time! Join the&nbsp\;Remodelors Council for their annual meeting at Contract Furnishings Mart on Tuesday\, August 23. CFM always puts out the welcome mat and this meeting is no exception. Come to network with your RC counterparts\, learn all about the latest and greatest at CFM and enjoy some great BBQ!
LOCATION:Contract Furnishings Mart 3600 E Industry Dr Fife\, WA
UID:e.9280.1089
SEQUENCE:3
DTSTAMP:20260422T232248Z
URL:https://members.masterbuilderspierce.com/events/details/remodelors-council-contract-furnishings-mart-08-23-2016-1089
END:VEVENT

END:VCALENDAR
