BEGIN:VCALENDAR
VERSION:2.0
PRODID:-//ChamberMaster//Event Calendar 2.0//EN
METHOD:PUBLISH
X-PUBLISHED-TTL:P3D
REFRESH-INTERVAL:P3D
CALSCALE:GREGORIAN
BEGIN:VEVENT
DTSTART:20161123T020000Z
DTEND:20161123T040000Z
X-MICROSOFT-CDO-ALLDAYEVENT:FALSE
SUMMARY:Remodelors Council @ Bill Korum's Puyallup Nissan
DESCRIPTION:Join the Remodelors Council for the last meeting of 2016! Bill Korum's Puyallup Nissan is hosting the Remodelors Council with a Taco Tuesday night to close out the year! RSVP now
X-ALT-DESC;FMTTYPE=text/html:Join the Remodelors Council for the last meeting of 2016! Bill Korum&#39\;s Puyallup Nissan is hosting the Remodelors Council with a Taco Tuesday night to close out the year! RSVP now
LOCATION:Bill Korum's Puyuallup Nissan 101 Valley Ave NW Puyallup\, WA
UID:e.9280.1092
SEQUENCE:3
DTSTAMP:20260422T201802Z
URL:https://members.masterbuilderspierce.com/events/details/remodelors-council-bill-korum-s-puyallup-nissan-11-22-2016-1092
END:VEVENT

END:VCALENDAR
