BEGIN:VCALENDAR
VERSION:2.0
PRODID:-//ChamberMaster//Event Calendar 2.0//EN
METHOD:PUBLISH
X-PUBLISHED-TTL:P3D
REFRESH-INTERVAL:P3D
CALSCALE:GREGORIAN
BEGIN:VEVENT
DTSTART:20191023T003000Z
DTEND:20191022T163000Z
X-MICROSOFT-CDO-ALLDAYEVENT:FALSE
SUMMARY:Remodelors Council at Signature Design & Cabinetry
DESCRIPTION:Please join us this month at Signature Design & Cabinetry for the Remodelors Council Meeting! George Bashkingy from NatureKast Outdoor Cabinets will be coming to speak. \n\n\n\n*Coming soon to Signature Design & Cabinetry\, a new outdoor kitchen display by our cabinet line\, NatureKast. NatrueKast is the premier outdoor kitchen cabinet solution. Kitchens have become one of the most popular outdoor living projects but are often designed and/or constructed improperly. NatureKast provides a great product for long lasting beautiful outdoor kitchens.
X-ALT-DESC;FMTTYPE=text/html:Please join us this month at Signature Design &amp\; Cabinetry for the Remodelors Council Meeting! George Bashkingy from NatureKast Outdoor Cabinets will be coming to speak.&nbsp\;<br />\n<br />\n*Coming soon to Signature Design &amp\; Cabinetry\, a new outdoor kitchen display by our cabinet line\, NatureKast. NatrueKast is the premier outdoor kitchen cabinet solution. Kitchens have become one of the most popular outdoor living projects but are often designed and/or constructed improperly. NatureKast provides a great product for long lasting beautiful outdoor kitchens.
LOCATION:Signature Design & Cabinetry 911 Pacific Ave Tacoma\, WA 98402
UID:e.9280.3872
SEQUENCE:3
DTSTAMP:20260421T085150Z
URL:https://members.masterbuilderspierce.com/events/details/remodelors-council-at-signature-design-cabinetry-3872
END:VEVENT

END:VCALENDAR
