BEGIN:VCALENDAR
VERSION:2.0
PRODID:-//ChamberMaster//Event Calendar 2.0//EN
METHOD:PUBLISH
X-PUBLISHED-TTL:P3D
REFRESH-INTERVAL:P3D
CALSCALE:GREGORIAN
BEGIN:VEVENT
DTSTART:20180627T003000Z
DTEND:20180627T023000Z
X-MICROSOFT-CDO-ALLDAYEVENT:FALSE
SUMMARY:Remodelors Council at New Leaf Cabinets and Counters
DESCRIPTION:Join us for the first Remodelors Council meeting of the summer at New Leaf Cabinets and Counters. Don't miss your chance to take a look at the Square Foot Countertop Collection and learn easy ways to achieve a custom cabinet look on budget conscious projects. \n\n\n\nThis event is free for Remdelors Council members. Dinner and Drinks provided. Register today!
X-ALT-DESC;FMTTYPE=text/html:Join us for the first Remodelors Council meeting of the summer at New Leaf Cabinets and Counters. Don&#39\;t miss your chance to take a look at the Square Foot Countertop Collection and learn&nbsp\;easy ways to achieve a custom cabinet look on budget conscious projects.&nbsp\;<br />\n<br />\nThis event is free for Remdelors Council members. Dinner and Drinks provided. Register today!&nbsp\;<br />\n<br />\n&nbsp\;
LOCATION:New Leaf Cabinets & Counters 2710 S Yakima Ave. Tacoma\, WA 98409
UID:e.9280.1111
SEQUENCE:3
DTSTAMP:20260421T141034Z
URL:https://members.masterbuilderspierce.com/events/details/remodelors-council-at-new-leaf-cabinets-and-counters-1111
END:VEVENT

END:VCALENDAR
