BEGIN:VCALENDAR
VERSION:2.0
PRODID:-//ChamberMaster//Event Calendar 2.0//EN
METHOD:PUBLISH
X-PUBLISHED-TTL:P3D
REFRESH-INTERVAL:P3D
CALSCALE:GREGORIAN
BEGIN:VEVENT
DTSTART:20190626T003000Z
DTEND:20190626T023000Z
X-MICROSOFT-CDO-ALLDAYEVENT:FALSE
SUMMARY:Remodelors Council at Founder's Choice Cabinetry
DESCRIPTION:Smokin' Summer Kickoff 2019\n\n\n\nCome over to Founder's Choice Cabinets and Countertops to kick off Summer at their Fircrest Showroom. Speaker David and Brandon Sizemore will be discussing "The Future is Built Here" -  innovation in the cabinet industry and why local manufacturing is more important than ever.\n\n\n\nFree to attend! Enjoy "Real Pit BBQ" catered by Mastodon West Coast Barbecue with beverages by 7 Seas Brewery and Chateau St Michelle.
X-ALT-DESC;FMTTYPE=text/html:<span style="font-family:arial\;"><span style="color:#666666\;"><span style="font-size:12.0pt\;">Smokin&rsquo\; Summer Kickoff 2019</span></span><br />\n<br />\n<span style="font-size:12pt\;"><span style="color:#666666\;">Come over to Founder&rsquo\;s Choice Cabinets and Countertops to kick off Summer at their Fircrest Showroom. Speaker David and Brandon Sizemore will be discussing &ldquo\;The Future is Built Here&rdquo\; - &nbsp\;innovation in the cabinet industry and why local manufacturing is more important than ever.</span></span><br />\n<br />\n<span style="color:#666666\;"><span style="font-size:12.0pt\;">Free to attend! Enjoy &ldquo\;Real Pit BBQ&rdquo\; catered by Mastodon West Coast Barbecue with beverages by 7 Seas Brewery and Chateau St Michelle.</span></span></span>
LOCATION:Founder's Choice Cabinets & Countertops 3002 South Mullen St\, Tacoma\, WA 98409
UID:e.9280.3868
SEQUENCE:3
DTSTAMP:20260421T111857Z
URL:https://members.masterbuilderspierce.com/events/details/remodelors-council-at-founder-s-choice-cabinetry-3868
END:VEVENT

END:VCALENDAR
