BEGIN:VCALENDAR
VERSION:2.0
PRODID:-//ChamberMaster//Event Calendar 2.0//EN
METHOD:PUBLISH
X-PUBLISHED-TTL:P3D
REFRESH-INTERVAL:P3D
CALSCALE:GREGORIAN
BEGIN:VEVENT
DTSTART:20161026T010000Z
DTEND:20161026T030000Z
X-MICROSOFT-CDO-ALLDAYEVENT:FALSE
SUMMARY:Remodelors Council at Crescent Lighting Supply
DESCRIPTION:Join the Remodelors Council at Crescent Lighting Supply on Tuesday\, October 25th!
X-ALT-DESC;FMTTYPE=text/html:Join the Remodelors Council at Crescent Lighting Supply on Tuesday\, October 25th!&nbsp\;
LOCATION:Crescent Lighting Supply 3214 20th St E Fife\, WA
UID:e.9280.1091
SEQUENCE:3
DTSTAMP:20260422T215500Z
URL:https://members.masterbuilderspierce.com/events/details/remodelors-council-at-crescent-lighting-supply-1091
END:VEVENT

END:VCALENDAR
