BEGIN:VCALENDAR
VERSION:2.0
PRODID:-//ChamberMaster//Event Calendar 2.0//EN
METHOD:PUBLISH
X-PUBLISHED-TTL:P3D
REFRESH-INTERVAL:P3D
CALSCALE:GREGORIAN
BEGIN:VEVENT
DTSTART:20180829T003000Z
DTEND:20180829T023000Z
X-MICROSOFT-CDO-ALLDAYEVENT:FALSE
SUMMARY:Remodelors Council at Contract Furnishings Mart - TACOMA LOCATION!
DESCRIPTION:Join us on August 28\, for their annual meeting at Contract Furnishings Mart - NEW TACOMA LOCATION! CFM always puts out the welcome mat and this meeting is no exception. Come to network with your RC counterparts\, learn all about the latest and greatest at CFM and enjoy some great food and drinks!\n\n\n\nMike Gallagher\, Craft Artisan Wood Floors & Seth Boyton\, Forbo   Marmoleum Products will be speaking at this event\, you won't want to miss it!\n\n\n\n\n\nNew address:\n\n6305 - 6th Avenue\n\nTacoma\, WA
X-ALT-DESC;FMTTYPE=text/html:Join us on August 28\, for their annual meeting at Contract Furnishings Mart - NEW TACOMA LOCATION! CFM always puts out the welcome mat and this meeting is no exception. Come to network with your RC counterparts\, learn all about the latest and greatest at CFM and enjoy some great food and drinks!<br />\n<br />\nMike Gallagher\,&nbsp\;Craft Artisan Wood Floors &amp\; Seth Boyton\,&nbsp\;Forbo &ndash\; Marmoleum Products will be speaking at this event\, you won&#39\;t want to miss it!<br />\n<br />\n<br />\n<span style="color: rgb(51\, 51\, 51)\; font-family: sans-serif\, Arial\, Verdana\, &quot\;Trebuchet MS&quot\;\; font-size: 13px\; background-color: rgb(255\, 255\, 255)\;"><u><strong>New address:</strong></u><br />\n6305 - 6th Avenue</span><br style="color: rgb(51\, 51\, 51)\; font-family: sans-serif\, Arial\, Verdana\, &quot\;Trebuchet MS&quot\;\; font-size: 13px\;" />\n<span style="color: rgb(51\, 51\, 51)\; font-family: sans-serif\, Arial\, Verdana\, &quot\;Trebuchet MS&quot\;\; font-size: 13px\; background-color: rgb(255\, 255\, 255)\;">Tacoma\, WA</span>
LOCATION:Contract Furnishings Mart TACOMA LOCATION! 6305 - 6th Avenue Tacoma\, WA
UID:e.9280.1113
SEQUENCE:3
DTSTAMP:20260421T124712Z
URL:https://members.masterbuilderspierce.com/events/details/remodelors-council-at-contract-furnishings-mart-tacoma-location-1113
END:VEVENT

END:VCALENDAR
