BEGIN:VCALENDAR
VERSION:2.0
PRODID:-//ChamberMaster//Event Calendar 2.0//EN
METHOD:PUBLISH
X-PUBLISHED-TTL:P3D
REFRESH-INTERVAL:P3D
CALSCALE:GREGORIAN
BEGIN:VEVENT
DTSTART:20190828T003000Z
DTEND:20190828T023000Z
X-MICROSOFT-CDO-ALLDAYEVENT:FALSE
SUMMARY:Remodelors Council at Contract Furnishings Mart - FIFE LOCATION!
DESCRIPTION:Please join us for this month's Remodelors Council Meeting at Contract Furnishings Mart - FIFE!\n\n\n\nThey will be showcasing two new distributors that are new to the Northwest flooring offerings.\n\n\n\nPhyllis Cheever of TriWest - More Information\n\n\n\nRon John of Arizona Tile - More Information\n\n\n\nThere will be hosted food and beverage. You won't want to miss it!
X-ALT-DESC;FMTTYPE=text/html:Please join us for this month&#39\;s Remodelors Council Meeting at Contract Furnishings Mart - FIFE!<br />\n<br />\nThey will be showcasing two new distributors that are new to the Northwest flooring offerings.<br />\n<br />\nPhyllis Cheever of TriWest - <em><a href="https://www.triwestltd.com/" target="_blank">More Information</a></em><br />\n<br />\nRon John of Arizona Tile - <em><a href="https://www.arizonatile.com/" target="_blank">More Information</a></em><br />\n<br />\nThere will be hosted food and beverage. You won&#39\;t want to miss it!
LOCATION:Contract Furnishings Mart 3600 Industry Dr E Fife\, WA 98424
UID:e.9280.3870
SEQUENCE:3
DTSTAMP:20260421T112037Z
URL:https://members.masterbuilderspierce.com/events/details/remodelors-council-at-contract-furnishings-mart-fife-location-3870
END:VEVENT

END:VCALENDAR
