BEGIN:VCALENDAR
VERSION:2.0
PRODID:-//ChamberMaster//Event Calendar 2.0//EN
METHOD:PUBLISH
X-PUBLISHED-TTL:P3D
REFRESH-INTERVAL:P3D
CALSCALE:GREGORIAN
BEGIN:VEVENT
DTSTART:20180425T003000Z
DTEND:20180425T023000Z
X-MICROSOFT-CDO-ALLDAYEVENT:FALSE
SUMMARY:Remodelors Council at Albert Lee Appliance
DESCRIPTION:Join the Remodelors Council for their April meeting at the always enjoyable Albert Lee Appliance. There will be special presentations from manufacture representatives to give you a look at the latest and greatest on the market. \n\n\n\nThere will be a variety of appetizers\, beverages and door prizes.
X-ALT-DESC;FMTTYPE=text/html:<div style="color: rgb(0\, 0\, 0)\; font-family: Arial\, Helvetica\, sans-serif\; font-size: 13.3333px\;">Join the Remodelors Council for their April meeting at the always enjoyable Albert Lee Appliance. There will be special presentations from manufacture representatives to give you a look at the latest and greatest on the market.&nbsp\;<br />\n<br />\nThere will be a variety of appetizers\, beverages and door prizes.&nbsp\;</div>\n
LOCATION:Albert Lee Appliance 4124 Tacoma Mall Blvd\, Tacoma\, WA 98409
UID:e.9280.1109
SEQUENCE:3
DTSTAMP:20260421T171239Z
URL:https://members.masterbuilderspierce.com/events/details/remodelors-council-at-albert-lee-appliance-1109
END:VEVENT

END:VCALENDAR
