BEGIN:VCALENDAR
VERSION:2.0
PRODID:-//ChamberMaster//Event Calendar 2.0//EN
METHOD:PUBLISH
X-PUBLISHED-TTL:P3D
REFRESH-INTERVAL:P3D
CALSCALE:GREGORIAN
BEGIN:VEVENT
DTSTART:20171013T150000Z
DTEND:20171014T000000Z
X-MICROSOFT-CDO-ALLDAYEVENT:FALSE
SUMMARY:RECERTIFICATION-Certified Erosion & Sediment Control Lead
DESCRIPTION:CESCL Recertification\n\n3 Year Certified Erosion & Sediment Control Lead Certification\n\n6 CE\, National Association of Home Builders (NAHB) ~ NAHB\n\n\n\nIs your Certified Erosion and Sediment Control Lead (CESCL) designation about to expire? The Department of Ecology requires a CESCL on all stormwater permitted construction sites over an acre\, and CESCL certifications must be renewed every three years with a one-day class. Designed for residential builders\, BIAW's CESCL recertification course will answer the most-asked builder questions\, including what BMP's perform best on construction sites\, how to keep those BMP's working\, what red flags signal erosion problems\, and how to effectively work with local and state inspectors. This course will also walk you through the planning and execution of erosion control in a subdivision.\n\nInstructor: Certified DOE Instructor
X-ALT-DESC;FMTTYPE=text/html:<h4 id="Content1_lblClassTitle" style="margin-top: 0.5em\; margin-bottom: 0.5em\; font-size: large\; color: rgb(71\, 73\, 75)\; font-family: Arial\; background-color: rgb(255\, 255\, 255)\;">CESCL Recertification</h4>\n\n<div id="Content1_lblClassDescription" style="color: rgb(71\, 73\, 75)\; font-family: Arial\; font-size: 12.1px\; background-color: rgb(255\, 255\, 255)\;">3 Year Certified Erosion &amp\; Sediment Control Lead Certification<br />\n6 CE\, National Association of Home Builders (NAHB) ~ NAHB<br />\n<br />\nIs your Certified Erosion and Sediment Control Lead (CESCL) designation about to expire? The Department of Ecology requires a CESCL on all stormwater permitted construction sites over an acre\, and CESCL certifications must be renewed every three years with a one-day class. Designed for residential builders\, BIAW&#39\;s CESCL recertification course will answer the most-asked builder questions\, including what BMP&#39\;s perform best on construction sites\, how to keep those BMP&#39\;s working\, what red flags signal erosion problems\, and how to effectively work with local and state inspectors. This course will also walk you through the planning and execution of erosion control in a subdivision.<br />\nInstructor: Certified DOE Instructor</div>\n
LOCATION:MBA of Pierce County 3711 Center St Tacoma\, WA 98409
UID:e.9280.1811
SEQUENCE:3
DTSTAMP:20260422T022003Z
URL:https://members.masterbuilderspierce.com/events/details/recertification-certified-erosion-sediment-control-lead-1811
END:VEVENT

END:VCALENDAR
