BEGIN:VCALENDAR
VERSION:2.0
PRODID:-//ChamberMaster//Event Calendar 2.0//EN
METHOD:PUBLISH
X-PUBLISHED-TTL:P3D
REFRESH-INTERVAL:P3D
CALSCALE:GREGORIAN
BEGIN:VEVENT
DTSTART:20190418T153000Z
DTEND:20190418T220000Z
X-MICROSOFT-CDO-ALLDAYEVENT:FALSE
SUMMARY:Real Estate Licensee Tour presented by Community One Financial
DESCRIPTION:Are you licensed to sell homes in the state of Washington? Join us for our first MBA Pierce Real Estate Licensee Tour presented by Community One Financial! Visit communities of featured builders throughout Pierce County and acquaint yourself with current inventory\, start-up projects & receive education on attributes of the selected homes. \n\n\n\nThe tour features homes from the following local Builders: \n\n\n	Great Northwest Homes\, LLC\n	Rush Residential\n	Sager Family Homes\n	Soundbuilt Homes\n\n\n\n\nTour Details:\n\n\n	Breakfast sponsored by Opes Advisors will be provided\n	A chartered bus will transport you to 5 homes\n	Enjoy a 30-minute visit at each site -- Learn about unique home features\, inventory\, and more\n	Food and beverage will be provided throughout the tour\n	A detailed schedule is provided prior to the tour\n\nThere is very limited space on the tour so sign up today!
X-ALT-DESC;FMTTYPE=text/html:<p>Are you licensed to sell homes in the state of Washington? Join us for our first MBA Pierce Real Estate Licensee Tour presented by Community One Financial! Visit communities of featured builders throughout Pierce County and acquaint yourself with current inventory\, start-up projects &amp\; receive education on attributes of the selected homes.&nbsp\;<br />\n<br />\nThe tour features homes from the following local Builders:&nbsp\;</p>\n\n<ul>\n	<li>Great Northwest Homes\, LLC</li>\n	<li>Rush Residential</li>\n	<li>Sager Family Homes</li>\n	<li>Soundbuilt Homes</li>\n</ul>\n\n<p><br />\n<u><strong>Tour Details:</strong></u></p>\n\n<ul>\n	<li>Breakfast sponsored by Opes Advisors will be provided</li>\n	<li>A chartered bus will transport you to 5 homes</li>\n	<li>Enjoy a 30-minute visit at each site -- Learn about unique home features\, inventory\, and more</li>\n	<li>Food and beverage will be provided throughout the tour</li>\n	<li>A detailed schedule&nbsp\;is provided prior to the tour</li>\n</ul>\nThere is very limited space on the tour so <em><strong><a href="https://mbapierce.memberzone.com/eventregistration/register/3901" target="_blank">sign up today</a></strong></em>!&nbsp\;
LOCATION:Various locations throughout Pierce County
UID:e.9280.3901
SEQUENCE:3
DTSTAMP:20260421T085121Z
URL:https://members.masterbuilderspierce.com/events/details/real-estate-licensee-tour-presented-by-community-one-financial-3901
END:VEVENT

END:VCALENDAR
