BEGIN:VCALENDAR
VERSION:2.0
PRODID:-//ChamberMaster//Event Calendar 2.0//EN
METHOD:PUBLISH
X-PUBLISHED-TTL:P3D
REFRESH-INTERVAL:P3D
CALSCALE:GREGORIAN
BEGIN:VEVENT
DTSTART:20190530T150000Z
DTEND:20190531T000000Z
X-MICROSOFT-CDO-ALLDAYEVENT:FALSE
SUMMARY:Project Management
DESCRIPTION:Project Management\n\nThis course qualifies for - 6 AIA/CES LU   6.0 CE for AIBD   6 CE for all NAHB Designations except HCCP\n\n\n\nLearn project management concepts and strategies designed to help you increase your professional value and the value you bring to your company and customers. This course will teach you the basics of successful project management. A successful project is one that is built on time\, on budget\, and to the customer's satisfaction. The course explains the role of project managers during each phase of a project\, including the pre-construction\, construction\, and post-construction phases. Project management tools and effective management of trade contractors will also be discussed.\n\n\n\nInstructors: Diane Glenn\, CGP\, Joseph Irons\, CGR\, CAPS\, CGP\, GMR\, GMB
X-ALT-DESC;FMTTYPE=text/html:<p><span style="font-size:16px\;"><u><strong>Project Management</strong></u></span></p>\n\n<p>This course qualifies for - 6 AIA/CES LU &bull\; 6.0 CE for AIBD &bull\; 6 CE for all NAHB Designations except HCCP<br />\n<br />\nLearn project management concepts and strategies designed to help you increase your professional value and the value you bring to your company and customers. This course will teach you the basics of successful project management. A successful project is one that is built on time\, on budget\, and to the customer&#39\;s satisfaction. The course explains the role of project managers during each phase of a project\, including the pre-construction\, construction\, and post-construction phases. Project management tools and effective management of trade contractors will also be discussed.<br />\n<br />\nInstructors: Diane Glenn\, CGP\, Joseph Irons\, CGR\, CAPS\, CGP\, GMR\, GMB</p>\n
LOCATION:MBA Pierce County 3711 Center St. Tacoma\, WA 98409
UID:e.9280.3823
SEQUENCE:3
DTSTAMP:20260421T094343Z
URL:https://members.masterbuilderspierce.com/events/details/project-management-3823
END:VEVENT

END:VCALENDAR
