BEGIN:VCALENDAR
VERSION:2.0
PRODID:-//ChamberMaster//Event Calendar 2.0//EN
METHOD:PUBLISH
X-PUBLISHED-TTL:P3D
REFRESH-INTERVAL:P3D
CALSCALE:GREGORIAN
BEGIN:VEVENT
DTSTART:20180524T150000Z
DTEND:20180525T000000Z
X-MICROSOFT-CDO-ALLDAYEVENT:FALSE
SUMMARY:Project Management
DESCRIPTION:6 CE\, National Association of Home Builders (NAHB) ~ NAHB \n\n6.0 CE\, American Institute of Architects (AIA) / (HSW)/ (SD) ~ NAHB \n\n6 CE\, American Institute of Building Design (AIBD) ~ NAHB \n\n\n\nDevelop or enhance the skills you need for a successful on or off-site production operations management. This hands-on course covers the three phases of a successful venture: planning\, implementation and evaluation. Anyone involved in the pre-construction and construction process will benefit from this course. Renew your understanding of successful project management\, execute the pre-construction project management functions and responsibilities\, implement the tools available for efficient project management\, manage trade contractors effectively and complete duties and responsibilities. \n\n\n\nInstructors: Diane Glenn\, CGP\, Ed Vander Bogert\, Joseph Irons\, CGR\, CAPS\, CGP\, GMR\, GMB
X-ALT-DESC;FMTTYPE=text/html:<span style="color: rgb(71\, 73\, 75)\; font-family: Arial\; font-size: 12.1px\;">6 CE\, National Association of Home Builders (NAHB) ~ NAHB&nbsp\;</span><br style="color: rgb(71\, 73\, 75)\; font-family: Arial\; font-size: 12.1px\;" />\n<span style="color: rgb(71\, 73\, 75)\; font-family: Arial\; font-size: 12.1px\;">6.0 CE\, American Institute of Architects (AIA) / (HSW)/ (SD) ~ NAHB&nbsp\;</span><br style="color: rgb(71\, 73\, 75)\; font-family: Arial\; font-size: 12.1px\;" />\n<span style="color: rgb(71\, 73\, 75)\; font-family: Arial\; font-size: 12.1px\;">6 CE\, American Institute of Building Design (AIBD) ~ NAHB&nbsp\;</span><br style="color: rgb(71\, 73\, 75)\; font-family: Arial\; font-size: 12.1px\;" />\n<br style="color: rgb(71\, 73\, 75)\; font-family: Arial\; font-size: 12.1px\;" />\n<span style="color: rgb(71\, 73\, 75)\; font-family: Arial\; font-size: 12.1px\;">Develop or enhance the skills you need for a successful on or off-site production operations management. This hands-on course covers the three phases of a successful venture: planning\, implementation and evaluation. Anyone involved in the pre-construction and construction process will benefit from this course. Renew your understanding of successful project management\, execute the pre-construction project management functions and responsibilities\, implement the tools available for efficient project management\, manage trade contractors effectively and complete duties and responsibilities.&nbsp\;</span><br style="color: rgb(71\, 73\, 75)\; font-family: Arial\; font-size: 12.1px\;" />\n<br style="color: rgb(71\, 73\, 75)\; font-family: Arial\; font-size: 12.1px\;" />\n<span style="color: rgb(71\, 73\, 75)\; font-family: Arial\; font-size: 12.1px\;">Instructors: Diane Glenn\, CGP\, Ed Vander Bogert\, Joseph Irons\, CGR\, CAPS\, CGP\, GMR\, GMB</span>
LOCATION:MBA Pierce County 3711 Center St. Tacoma\, WA 98409
UID:e.9280.2378
SEQUENCE:3
DTSTAMP:20260421T152751Z
URL:https://members.masterbuilderspierce.com/events/details/project-management-2378
END:VEVENT

END:VCALENDAR
