BEGIN:VCALENDAR
VERSION:2.0
PRODID:-//ChamberMaster//Event Calendar 2.0//EN
METHOD:PUBLISH
X-PUBLISHED-TTL:P3D
REFRESH-INTERVAL:P3D
CALSCALE:GREGORIAN
BEGIN:VEVENT
DTSTART:20190711T213000Z
DTEND:20190711T223000Z
X-MICROSOFT-CDO-ALLDAYEVENT:FALSE
SUMMARY:PR Committee Meeting
DESCRIPTION:The PR Committee strives to enhance a positive awareness of the MBA\, provides timely and relevant communication to members and the media\, organize and supports community outreach programs. Meetings are held the first Tuesday of every month at 2:30 pm at the MBA Pierce office.\n\n\n\nDue to our July 2nd meeting cancellation\, we have rescheduled for July 11th\, 2019.
X-ALT-DESC;FMTTYPE=text/html:<span style="font-family: Calibri\, Verdana\, Geneva\, sans-serif\; font-size: 16px\;">The PR Committee strives to enhance a positive awareness of the MBA\, provides timely and relevant communication to members and the media\, organize and supports community outreach programs. Meetings are held the first Tuesday of every month at 2:30 pm at the MBA Pierce office.<br />\n<br />\n<span style="color:#FF0000\;"><em><strong>Due to our July 2nd meeting cancellation\, we have rescheduled for July 11th\, 2019.</strong></em></span></span><br />\n&nbsp\;
LOCATION:MBA Pierce Office 3711 Center Street Tacoma\, WA 98409
UID:e.9280.3959
SEQUENCE:3
DTSTAMP:20260421T124037Z
URL:https://members.masterbuilderspierce.com/events/details/pr-committee-meeting-3959
END:VEVENT

END:VCALENDAR
