BEGIN:VCALENDAR
VERSION:2.0
PRODID:-//ChamberMaster//Event Calendar 2.0//EN
METHOD:PUBLISH
X-PUBLISHED-TTL:P3D
REFRESH-INTERVAL:P3D
CALSCALE:GREGORIAN
BEGIN:VEVENT
DTSTART:20170911T213000Z
DTEND:20170911T223000Z
X-MICROSOFT-CDO-ALLDAYEVENT:FALSE
SUMMARY:PR Committee Meeting
DESCRIPTION:The PR Committee strives to enhance a positive awareness of MBA Pierce County\, provides timely and relevant communication to members and the media\, and organizes and supports community outreach programs.
X-ALT-DESC;FMTTYPE=text/html:The PR Committee strives to enhance a positive awareness of MBA Pierce County\, provides timely and relevant communication to members and the media\, and organizes and supports community outreach programs.&nbsp\;
LOCATION:MBA Pierce Office 3711 Center St. Tacoma\, WA 98409
UID:e.9280.2040
SEQUENCE:3
DTSTAMP:20260422T035649Z
URL:https://members.masterbuilderspierce.com/events/details/pr-committee-meeting-2040
END:VEVENT

END:VCALENDAR
