BEGIN:VCALENDAR
VERSION:2.0
PRODID:-//ChamberMaster//Event Calendar 2.0//EN
METHOD:PUBLISH
X-PUBLISHED-TTL:P3D
REFRESH-INTERVAL:P3D
CALSCALE:GREGORIAN
BEGIN:VEVENT
DTSTART:20161207T230000Z
DTEND:20161208T000000Z
X-MICROSOFT-CDO-ALLDAYEVENT:FALSE
SUMMARY:PR Committee Meeting
DESCRIPTION:The PR Committee strives to enhance positive awareness of MBA Pierce County\, it's members\, and it's causes. We work to provide timely and relevant communication to members and the media\, organize and support community outreach programs\, and market the benefits of what MBA has to offer.
X-ALT-DESC;FMTTYPE=text/html:The PR Committee strives to enhance positive awareness of MBA Pierce County\, it&#39\;s members\, and it&#39\;s causes. We work to provide timely and relevant&nbsp\;communication to members and the media\, organize and support community outreach programs\, and market the benefits of what MBA has to offer.&nbsp\;&nbsp\;&nbsp\;&nbsp\;&nbsp\;
LOCATION:MBA Pierce 1120 Pacific Ave\, Suite #301 Tacoma\, WA 98402
UID:e.9280.1520
SEQUENCE:3
DTSTAMP:20260422T183752Z
URL:https://members.masterbuilderspierce.com/events/details/pr-committee-meeting-1520
END:VEVENT

END:VCALENDAR
